View In:
ArcGIS JavaScript
ArcGIS Online Map Viewer
ArcGIS Earth
ArcMap
View Footprint In:
ArcGIS Online Map Viewer
Service Description: Public/ON_Clark_Island_Drone_2018
Name: Public/ON_Clark_Island_Drone_2018
Description:
Single Fused Map Cache: false
Extent:
XMin: 345103.80129000003
YMin: 4893405.30147
XMax: 346440.51544000005
YMax: 4894633.444970001
Spatial Reference: 32618
(32618)
Initial Extent:
XMin: 345103.80129000003
YMin: 4893405.30147
XMax: 346440.51544000005
YMax: 4894633.444970001
Spatial Reference: 32618
(32618)
Full Extent:
XMin: 345103.80129000003
YMin: 4893405.30147
XMax: 346440.51544000005
YMax: 4894633.444970001
Spatial Reference: 32618
(32618)
Pixel Size X: 0.030050000000000323
Pixel Size Y: 0.030050000000005832
Band Count: 4
Pixel Type: U8
RasterFunction Infos: {"rasterFunctionInfos": [{
"name": "None",
"description": "",
"help": ""
}]}
Mensuration Capabilities: Basic
Has Histograms: true
Has Colormap: false
Has Multi Dimensions : false
Rendering Rule:
Min Scale: 0
Max Scale: 0
Copyright Text:
Service Data Type: esriImageServiceDataTypeGeneric
Min Values: 1, 1, 1, 255
Max Values: 255, 250, 253, 255
Mean Values: 68.646714007353, 49.873948855576, 29.742688016027, 255
Standard Deviation Values: 36.84725897909, 26.346292267571, 17.575021258779, 0
Object ID Field:
Fields:
None
Default Mosaic Method: Center
Allowed Mosaic Methods:
SortField:
SortValue: null
Mosaic Operator: First
Default Compression Quality: 75
Default Resampling Method: Bilinear
Max Record Count: null
Max Image Height: 4100
Max Image Width: 15000
Max Download Image Count: null
Max Mosaic Image Count: null
Allow Raster Function: true
Allow Copy: true
Allow Analysis: true
Allow Compute TiePoints: false
Supports Statistics: false
Supports Advanced Queries: false
Use StandardizedQueries: true
Raster Type Infos:
Name: Raster Dataset
Description: Supports all ArcGIS Raster Datasets
Help:
Has Raster Attribute Table: false
Edit Fields Info: null
Ownership Based AccessControl For Rasters: null
Child Resources:
Info
Histograms
Statistics
Key Properties
Legend
Raster Function Infos
Supported Operations:
Export Image
Identify
Measure
Compute Histograms
Compute Statistics Histograms
Get Samples
Compute Class Statistics
Query Boundary
Compute Pixel Location
Compute Angles
Validate
Project