{
 "currentVersion": 10.91,
 "serviceDescription": "Public/ON_Clark_Island_Drone_2018",
 "name": "Public/ON_Clark_Island_Drone_2018",
 "description": "",
 "extent": {
  "xmin": 345103.80129000003,
  "ymin": 4893405.30147,
  "xmax": 346440.51544000005,
  "ymax": 4894633.444970001,
  "spatialReference": {
   "wkid": 32618,
   "latestWkid": 32618
  }
 },
 "initialExtent": {
  "xmin": 345103.80129000003,
  "ymin": 4893405.30147,
  "xmax": 346440.51544000005,
  "ymax": 4894633.444970001,
  "spatialReference": {
   "wkid": 32618,
   "latestWkid": 32618
  }
 },
 "fullExtent": {
  "xmin": 345103.80129000003,
  "ymin": 4893405.30147,
  "xmax": 346440.51544000005,
  "ymax": 4894633.444970001,
  "spatialReference": {
   "wkid": 32618,
   "latestWkid": 32618
  }
 },
 "hasMultidimensions": false,
 "pixelSizeX": 0.030050000000000323,
 "pixelSizeY": 0.030050000000005832,
 "datasetFormat": "TIFF",
 "uncompressedSize": 7272080840,
 "blockWidth": 44483,
 "blockHeight": 1,
 "compressionType": "LZW",
 "bandNames": [
  "Band_1",
  "Band_2",
  "Band_3",
  "Band_4"
 ],
 "allowCopy": true,
 "allowAnalysis": true,
 "bandCount": 4,
 "noDataValue": 0,
 "noDataValues": [
  0,
  0,
  0,
  0
 ],
 "pixelType": "U8",
 "minPixelSize": 0,
 "maxPixelSize": 0,
 "copyrightText": "",
 "serviceDataType": "esriImageServiceDataTypeGeneric",
 "serviceSourceType": "esriImageServiceSourceTypeDataset",
 "minValues": [
  1,
  1,
  1,
  255
 ],
 "maxValues": [
  255,
  250,
  253,
  255
 ],
 "meanValues": [
  68.646714007353,
  49.873948855576,
  29.742688016027,
  255
 ],
 "stdvValues": [
  36.84725897909,
  26.346292267571,
  17.575021258779,
  0
 ],
 "objectIdField": "",
 "fields": [],
 "capabilities": "Mensuration,Image,Metadata",
 "defaultMosaicMethod": "Center",
 "allowedMosaicMethods": "",
 "sortField": "",
 "sortValue": null,
 "sortAscending": true,
 "mosaicOperator": "First",
 "defaultCompressionQuality": 75,
 "defaultResamplingMethod": "Bilinear",
 "maxImageHeight": 4100,
 "maxImageWidth": 15000,
 "allowRasterFunction": true,
 "rasterFunctionInfos": [
  {
   "name": "None",
   "description": "",
   "help": ""
  }
 ],
 "rasterTypeInfos": [
  {
   "name": "Raster Dataset",
   "description": "Supports all ArcGIS Raster Datasets",
   "help": ""
  }
 ],
 "mensurationCapabilities": "Basic",
 "hasHistograms": true,
 "hasColormap": false,
 "hasRasterAttributeTable": false,
 "minScale": 0,
 "maxScale": 0,
 "exportTilesAllowed": false,
 "supportsStatistics": false,
 "supportsAdvancedQueries": false,
 "editFieldsInfo": null,
 "ownershipBasedAccessControlForRasters": null,
 "allowComputeTiePoints": false,
 "useStandardizedQueries": true,
 "advancedQueryCapabilities": {
  "useStandardizedQueries": true,
  "supportsStatistics": false,
  "supportsOrderBy": false,
  "supportsDistinct": false,
  "supportsPagination": false
 },
 "spatialReference": {
  "wkid": 32618,
  "latestWkid": 32618
 }
}
