View In:
ArcGIS JavaScript
ArcGIS Online Map Viewer
ArcGIS Earth
ArcMap
View Footprint In:
ArcGIS Online Map Viewer
Service Description: Public/Render3b
Name: Public/Render3b
Description:
Single Fused Map Cache: false
Extent:
XMin: 295208.6024000002
YMin: 5813019.715399999
XMax: 364493.6024000002
YMax: 5880424.715399999
Spatial Reference: 2151
(2957)
Initial Extent:
XMin: 295208.6024000002
YMin: 5813019.715399999
XMax: 364493.6024000002
YMax: 5880424.715399999
Spatial Reference: 2151
(2957)
Full Extent:
XMin: 295208.6024000002
YMin: 5813019.715399999
XMax: 364493.6024000002
YMax: 5880424.715399999
Spatial Reference: 2151
(2957)
Pixel Size X: 5.0
Pixel Size Y: 5.0
Band Count: 4
Pixel Type: U8
RasterFunction Infos: {"rasterFunctionInfos": [{
"name": "None",
"description": "",
"help": ""
}]}
Mensuration Capabilities: Basic
Has Histograms: true
Has Colormap: false
Has Multi Dimensions : false
Rendering Rule:
Min Scale: 0
Max Scale: 0
Copyright Text:
Service Data Type: esriImageServiceDataTypeGeneric
Min Values: 0, 0, 0, 0
Max Values: 255, 255, 255, 255
Mean Values: 88.155607412162, 100.16567925027, 96.847505075255, 121.47232482096
Standard Deviation Values: 112.84196155062, 114.17987725742, 112.2159494897, 127.3574388042
Object ID Field:
Fields:
None
Default Mosaic Method: Center
Allowed Mosaic Methods:
SortField:
SortValue: null
Mosaic Operator: First
Default Compression Quality: 75
Default Resampling Method: Bilinear
Max Record Count: null
Max Image Height: 4100
Max Image Width: 15000
Max Download Image Count: null
Max Mosaic Image Count: null
Allow Raster Function: true
Allow Copy: true
Allow Analysis: true
Allow Compute TiePoints: false
Supports Statistics: false
Supports Advanced Queries: false
Use StandardizedQueries: true
Raster Type Infos:
Name: Raster Dataset
Description: Supports all ArcGIS Raster Datasets
Help:
Has Raster Attribute Table: false
Edit Fields Info: null
Ownership Based AccessControl For Rasters: null
Child Resources:
Info
Histograms
Statistics
Key Properties
Legend
Raster Function Infos
Supported Operations:
Export Image
Identify
Measure
Compute Histograms
Compute Statistics Histograms
Get Samples
Compute Class Statistics
Query Boundary
Compute Pixel Location
Compute Angles
Validate
Project